Workbook

Sheet 陕西
A1: “惠”聚优才——惠州市博罗县2023年第一批（陕西师范大学专场）公开招聘中小学教师进入体检名单
A2: 考场 | B2: 序号 | C2: 报考岗位 | D2: 岗位代码 | E2: 准考证号 | F2: 笔试成绩 | G2: 笔试折合分（50%） | H2: 面试成绩 | I2: 面试折合分（50%） | J2: 合计 | K2: 是否进入体检
A3: 陕西 | B3: 1 | C3: 高中道法（思政）教师 | D3: A202301 | E3: 20236161001 | F3: 72.41 | G3: =F3*0.5 -> 36.205 | H3: 76.67 | I3: =H3*0.5 -> 38.335 | J3: =G3+I3 -> 74.54 | K3: 是
A4: 陕西 | B4: 2 | C4: 高中地理教师 | D4: A202302 | E4: 20236161008 | F4: 69.69 | G4: =F4*0.5 -> 34.845 | H4: 73.33 | I4: =H4*0.5 -> 36.665 | J4: =G4+I4 -> 71.51 | K4: 是
A5: 陕西 | B5: 3 | C5: 高中地理教师 | D5: A202302 | E5: 20236161004 | F5: 75.17 | G5: =F5*0.5 -> 37.585 | H5: 81 | I5: =H5*0.5 -> 40.5 | J5: =G5+I5 -> 78.085 | K5: 是
A6: 陕西 | B6: 4 | C6: 高中地理教师 | D6: A202302 | E6: 20236161006 | F6: 65.5 | G6: =F6*0.5 -> 32.75 | H6: 77.83 | I6: =H6*0.5 -> 38.915 | J6: =G6+I6 -> 71.665 | K6: 是
A7: 陕西 | B7: 5 | C7: 高中化学教师 | D7: A202303 | E7: 20236161011 | F7: 68.3 | G7: =F7*0.5 -> 34.15 | H7: 75.42 | I7: =H7*0.5 -> 37.71 | J7: =G7+I7 -> 71.86 | K7: 是
A8: 陕西 | B8: 6 | C8: 高中化学教师 | D8: A202303 | E8: 20236161012 | F8: 72.88 | G8: =F8*0.5 -> 36.44 | H8: 77.17 | I8: =H8*0.5 -> 38.585 | J8: =G8+I8 -> 75.025 | K8: 是
A9: 陕西 | B9: 7 | C9: 高中化学教师 | D9: A202303 | E9: 20236161010 | F9: 72.02 | G9: =F9*0.5 -> 36.01 | H9: 76.58 | I9: =H9*0.5 -> 38.29 | J9: =G9+I9 -> 74.3 | K9: 是
A10: 陕西 | B10: 8 | C10: 高中历史教师 | D10: A202304 | E10: 20236161020 | F10: 64.28 | G10: =F10*0.5 -> 32.14 | H10: 69.58 | I10: =H10*0.5 -> 34.79 | J10: =G10+I10 -> 66.93 | K10: 是
A11: 陕西 | B11: 9 | C11: 高中历史教师 | D11: A202304 | E11: 20236161017 | F11: 73.06 | G11: =F11*0.5 -> 36.53 | H11: 73.08 | I11: =H11*0.5 -> 36.54 | J11: =G11+I11 -> 73.07 | K11: 是
A12: 陕西 | B12: 10 | C12: 高中历史教师 | D12: A202304 | E12: 20236161019 | F12: 62.78 | G12: =F12*0.5 -> 31.39 | H12: 73 | I12: =H12*0.5 -> 36.5 | J12: =G12+I12 -> 67.89 | K12: 是
A13: 陕西 | B13: 11 | C13: 高中生物教师 | D13: A202305 | E13: 20236161027 | F13: 70.63 | G13: =F13*0.5 -> 35.315 | H13: 78.33 | I13: =H13*0.5 -> 39.165 | J13: =G13+I13 -> 74.48 | K13: 是
A14: 陕西 | B14: 12 | C14: 高中生物教师 | D14: A202305 | E14: 20236161023 | F14: 80.41 | G14: =F14*0.5 -> 40.205 | H14: 77.83 | I14: =H14*0.5 -> 38.915 | J14: =G14+I14 -> 79.12 | K14: 是
A15: 陕西 | B15: 13 | C15: 高中生物教师 | D15: A202305 | E15: 20236161029 | F15: 77.03 | G15: =F15*0.5 -> 38.515 | H15: 80.67 | I15: =H15*0.5 -> 40.335 | J15: =G15+I15 -> 78.85 | K15: 是
... A45: 陕西 | B45: 43 | C45: 初中地理教师 | D45: A202314 | E45: 20236161117 | F45: 81.02 | G45: =F45*0.5 -> 40.51 | H45: 79.58 | I45: =H45*0.5 -> 39.79 | J45: =G45+I45 -> 80.3 | K45: 是

Sheet 河南
A1: “惠”聚优才——惠州市博罗县2023年第一批（河南师范大学专场）公开招聘中小学教师进入体检名单
A2: 考场 | B2: 序号 | C2: 报考岗位 | D2: 岗位代码 | E2: 准考证号 | F2: 笔试成绩 | G2: 笔试折合分（50%） | H2: 面试成绩 | I2: 面试折合分（50%） | J2: 合计 | K2: 是否进入体检
A3: 河南 | B3: 1 | C3: 初中道法（思政）教师 | D3: B202301 | E3: 20236182006 | F3: 73 | G3: 36.5 | H3: 79.75 | I3: 39.875 | J3: 76.375 | K3: 是
A4: 河南 | B4: 2 | C4: 初中道法（思政）教师 | D4: B202301 | E4: 20236182004 | F4: 84.89 | G4: 42.445 | H4: 85.33 | I4: 42.665 | J4: 85.11 | K4: 是
A5: 河南 | B5: 3 | C5: 初中道法（思政）教师 | D5: B202301 | E5: 20236182005 | F5: 69.64 | G5: 34.82 | H5: 81.75 | I5: 40.875 | J5: 75.695 | K5: 是
A6: 河南 | B6: 4 | C6: 初中道法（思政）教师 | D6: B202301 | E6: 20236182010 | F6: 75.26 | G6: 37.63 | H6: 84.83 | I6: 42.415 | J6: 80.045 | K6: 是
A7: 河南 | B7: 5 | C7: 初中道法（思政）教师 | D7: B202301 | E7: 20236182002 | F7: 70.48 | G7: 35.24 | H7: 85.25 | I7: 42.625 | J7: 77.865 | K7: 是
A8: 河南 | B8: 6 | C8: 初中道法（思政）教师 | D8: B202301 | E8: 20236182014 | F8: 86.89 | G8: 43.445 | H8: 77.5 | I8: 38.75 | J8: 82.195 | K8: 是
A9: 河南 | B9: 7 | C9: 初中道法（思政）教师 | D9: B202301 | E9: 20236182007 | F9: 76.87 | G9: 38.435 | H9: 77.67 | I9: 38.835 | J9: 77.27 | K9: 是
A10: 河南 | B10: 8 | C10: 初中道法（思政）教师 | D10: B202301 | E10: 20236182015 | F10: 76.37 | G10: 38.185 | H10: 77.75 | I10: 38.875 | J10: 77.06 | K10: 是
A11: 河南 | B11: 9 | C11: 初中道法（思政）教师 | D11: B202301 | E11: 20236182001 | F11: 75.37 | G11: 37.685 | H11: 83.42 | I11: 41.71 | J11: 79.395 | K11: 是
A12: 河南 | B12: 10 | C12: 初中数学教师 | D12: B202302 | E12: 20236182041 | F12: 77.15 | G12: 38.575 | H12: 79.08 | I12: 39.54 | J12: 78.115 | K12: 是
A13: 河南 | B13: 11 | C13: 初中数学教师 | D13: B202302 | E13: 20236182063 | F13: 77.26 | G13: 38.63 | H13: 72.92 | I13: 36.46 | J13: 75.09 | K13: 是
A14: 河南 | B14: 12 | C14: 初中数学教师 | D14: B202302 | E14: 20236182069 | F14: 72.74 | G14: 36.37 | H14: 78.17 | I14: 39.085 | J14: 75.455 | K14: 是
... A68: 河南 | B68: 66 | C68: 小学全科教师 | D68: B202308 | E68: 20236182203 | F68: 75.91 | G68: 37.955 | H68: 69.83 | I68: 34.915 | J68: 72.87 | K68: 是

Sheet 华师
A1: “惠”聚优才——惠州市博罗县2023年第一批（华南师范大学专场）公开招聘中小学教师进入体检名单
A2: 考场 | B2: 序号 | C2: 报考岗位 | D2: 岗位代码 | E2: 准考证号 | F2: 笔试成绩 | G2: 笔试折合分（50%） | H2: 面试成绩 | I2: 面试折合分（50%） | J2: 合计 | K2: 是否进入体检
A3: 华师 | B3: 1 | C3: 高中音乐教师 | D3: D202303 | E3: 20203010001 | F3: =VLOOKUP(E3,[1]成绩表!$C$3:$E$710,3,0) -> 73.41 | G3: =F3*0.5 -> 36.705 | H3: 87.67 | I3: =H3*0.5 -> 43.835 | J3: =G3+I3 -> 80.54 | K3: 是
A4: 华师 | B4: 2 | C4: 高中心理健康教师 | D4: D202304 | E4: 20203010006 | F4: =VLOOKUP(E4,[1]成绩表!$C$3:$E$710,3,0) -> 83.05 | G4: =F4*0.5 -> 41.525 | H4: 78.83 | I4: =H4*0.5 -> 39.415 | J4: =G4+I4 -> 80.94 | K4: 是
A5: 华师 | B5: 3 | C5: 高中语文教师 | D5: D202305 | E5: 20203010012 | F5: =VLOOKUP(E5,[1]成绩表!$C$3:$E$710,3,0) -> 63.41 | G5: =F5*0.5 -> 31.705 | H5: 75.75 | I5: =H5*0.5 -> 37.875 | J5: =G5+I5 -> 69.58 | K5: 是
A6: 华师 | B6: 4 | C6: 高中地理教师 | D6: D202306 | E6: 20203010013 | F6: =VLOOKUP(E6,[1]成绩表!$C$3:$E$710,3,0) -> 77.17 | G6: =F6*0.5 -> 38.585 | H6: 78.25 | I6: =H6*0.5 -> 39.125 | J6: =G6+I6 -> 77.71 | K6: 是
A7: 华师 | B7: 5 | C7: 高中历史教师 | D7: D202307 | E7: 20203010017 | F7: =VLOOKUP(E7,[1]成绩表!$C$3:$E$710,3,0) -> 80.83 | G7: =F7*0.5 -> 40.415 | H7: 80.5 | I7: =H7*0.5 -> 40.25 | J7: =G7+I7 -> 80.665 | K7: 是
A8: 华师 | B8: 6 | C8: 高中历史教师 | D8: D202307 | E8: 20203010015 | F8: =VLOOKUP(E8,[1]成绩表!$C$3:$E$710,3,0) -> 77.87 | G8: =F8*0.5 -> 38.935 | H8: 81.33 | I8: =H8*0.5 -> 40.665 | J8: =G8+I8 -> 79.6 | K8: 是
A9: 华师 | B9: 7 | C9: 高中历史教师 | D9: D202307 | E9: 20203010016 | F9: =VLOOKUP(E9,[1]成绩表!$C$3:$E$710,3,0) -> 80.19 | G9: =F9*0.5 -> 40.095 | H9: 76.67 | I9: =H9*0.5 -> 38.335 | J9: =G9+I9 -> 78.43 | K9: 是
A10: 华师 | B10: 8 | C10: 高中生物教师 | D10: D202308 | E10: 20203010019 | F10: =VLOOKUP(E10,[1]成绩表!$C$3:$E$710,3,0) -> 60.9 | G10: =F10*0.5 -> 30.45 | H10: 80.25 | I10: =H10*0.5 -> 40.125 | J10: =G10+I10 -> 70.575 | K10: 是
A11: 华师 | B11: 9 | C11: 高中生物教师 | D11: D202308 | E11: 20203010018 | F11: =VLOOKUP(E11,[1]成绩表!$C$3:$E$710,3,0) -> 84.01 | G11: =F11*0.5 -> 42.005 | H11: 82.08 | I11: =H11*0.5 -> 41.04 | J11: =G11+I11 -> 83.045 | K11: 是
A12: 华师 | B12: 10 | C12: 高中数学教师 | D12: D202309 | E12: 20203010021 | F12: =VLOOKUP(E12,[1]成绩表!$C$3:$E$710,3,0) -> 70.51 | G12: =F12*0.5 -> 35.255 | H12: 76.33 | I12: =H12*0.5 -> 38.165 | J12: =G12+I12 -> 73.42 | K12: 是
A13: 华师 | B13: 11 | C13: 高中物理教师 | D13: D202310 | E13: 20203010023 | F13: =VLOOKUP(E13,[1]成绩表!$C$3:$E$710,3,0) -> 72.23 | G13: =F13*0.5 -> 36.115 | H13: 72.67 | I13: =H13*0.5 -> 36.335 | J13: =G13+I13 -> 72.45 | K13: 是
A14: 华师 | B14: 12 | C14: 高中语文教师 | D14: D202311 | E14: 20203010026 | F14: =VLOOKUP(E14,[1]成绩表!$C$3:$E$710,3,0) -> 82.88 | G14: =F14*0.5 -> 41.44 | H14: 80.25 | I14: =H14*0.5 -> 40.125 | J14: =G14+I14 -> 81.565 | K14: 是
... A95: 华师 | B95: 93 | C95: 小学语文教师 | D95: D202330 | E95: 20203011102 | F95: =VLOOKUP(E95,[1]成绩表!$C$3:$E$710,3,0) -> 84.55 | G95: =F95*0.5 -> 42.275 | H95: 85.25 | I95: =H95*0.5 -> 42.625 | J95: =G95+I95 -> 84.9 | K95: 是
