Workbook

Sheet 日常统计表
B1: 市政设施建设类审批（占用、挖掘城市道路）项目统计表
C2: 1、项目名称规范化 | Q2: 2022年 | R2: 3 | V2: “天数”和“进度条”根据“开始日期”和“结束日期”自动计算。
B3: 序号 | C3: 项目名称 | D3: 案卷编号 | E3: 业主单位 | F3: 施工地点 | G3: 建设规模及内容 | H3: 占用面积（长mX宽m） | I3: 占用面积（m2） | J3: 占用收费（万元） | K3: 修复面积（m2） | M3: 修复收费（万元） | N3: 受理时间（预审时间） | O3: 审批时间（发证时间） | P3: 收费时间（预审时间） | Q3: 许可证号 | R3: 备注（系统批复） | S3: 备注 | T3: 开始日期 | U3: 结束日期 | V3: 天数 | W3: 1 | X3: 2 | Y3: 3 | Z3: 4 | AA3: 5 | AB3: 6 | AC3: 7 | AD3: 8 | AE3: 9 | AF3: 10 | AG3: 11 | AH3: 12 | AI3: 13 | AJ3: 14 | AK3: 15 | AL3: 16 | AM3: 17 | AN3: 18 | AO3: 19 | AP3: 20 | AQ3: 21 | AR3: 22 | AS3: 23 | AT3: 24 | AU3: 25 | AV3: 26 | AW3: 27 | AX3: 28 | AY3: 29 | AZ3: 30 | BA3: 31
B4: 1 | C4: 市政消火栓建设项目-旭日路 | E4: 惠州市碧水工程项目管理有限公司 | F4: 旭日路 | G4: 管长：329m；安装消火栓8座 | H4: 68X5
B5: 2 | C5: 惠州市金山新城水环境综合整治项目 | F5: 菱湖二路 | G5: 管长：115m，管径：DN400，开挖深度：4-5m | H5: 116X4 | N5: 44624 | O5: 44631 | V5: 20
B6: 3 | C6: 惠州市金山新城水环境综合整治项目 | F6: 西堤路 | G6: 管长：162m；管径为DN1200，开挖深度：5-6m | H6: 162X6 | N6: 44624 | O6: 44631 | V6: 60
B7: 4 | C7: 花边岭广场停车场供水管道项目 | F7: 花边岭广场 | G7: 管长：114m，管径：DN150，开挖深度：0.6m | H7: 120X2 | N7: 44628 | O7: 44634 | V7: 20
B8: 5 | C8: 惠州市金山新城水环境综合整治项目 | E8: 惠州市碧水工程项目管理有限公司 | F8: 翠竹四路 | G8: 管长：519m，管径:DN500mm，开挖深度：3-4m | H8: 160X5 | N8: 44628 | O8: 44634 | V8: 20
B9: 6 | C9: 惠州市金山新城水环境综合整治项目 | F9: 演达二路 | G9: 管长：40.3m，管径：DN500，开挖深度：3-4m | H9: 42X4 | N9: 44631 | O9: 44634 | V9: 13
B10: 7 | C10: 惠州市金山新城水环境综合整治项目 | F10: 四环南路 | G10: 管长：42m，管径：DN600，开挖深度：3-4m | H10: 42X4 | N10: 44631 | O10: 44634 | V10: 15
B11: 8 | C11: 龙丰-上排片区市政排水管网改造工程 | F11: 红花湖路、河坑路 | G11: 管长：480m，管径：DN600，开挖深度：4-5m | H11: 120X5 | N11: 44631 | O11: 44634 | V11: 20
B12: 9 | C12: 龙丰-上排片区市政排水管网改造工程 | F12: 花园水东路 | G12: 管长：366m，管径：DN400-800；开挖深度：4-6m | H12: 262X5 | N12: 44631 | O12: 44634 | V12: 30
B13: 10 | C13: 龙丰-上排片区市政排水管网改造工程 | F13: 江边路 | G13: 管长：306m,管径：DN600-800，开挖深度：3-4m | H13: 106X4 | N13: 44631 | O13: 44634 | V13: 20
B14: 11 | C14: 惠州市金山新城水环境综合整治项目 | F14: 麻渣下片区 | G14: 总共对麻渣下片区6条路进行地质勘查钻探施工 | H14: 无需固定围挡 | N14: 44628 | O14: 44634 | V14: 6
B15: 12 | C15: 惠州市金山新城水环境综合整治项目 | F15: 麦地片区 | G15: 总共对麦地片区9条路进行地质勘查钻探施工 | H15: 无需固定围挡 | N15: 44628 | O15: 44634 | V15: 6
B16: 13 | C16: 下角片区（菱湖周边）市政排水管网改造工程-雨污分流 | F16: 香子园路 | G16: 管长：175m，管径：DN400，开挖深度：为3-4m | H16: 175X7 | N16: 44631 | O16: 44637 | Q16: 惠市交通掘第0016
S17: 批复工期 | T17: 19 | U17: 8 | V17: =U17-T17+31 -> 20
B18: 14 | C18: 市政消火栓建设项目-东升路 | E18: 惠州市碧水工程项目管理有限公司 | F18: 东升路人行道 | G18: 安装消火栓10座 | H18: 20X2 | N18: 44638 | O18: 44638 | Q18: 惠市交通掘第0017 | S18: 申请工期 | T18: 18 | U18: 25 | V18: =U18-T18+1 -> 8
S19: 批复工期 | T19: 18 | U19: 25 | V19: =U19-T19+1 -> 8
B20: 15 | C20: 南郊站城乡Ⅰ线、Ⅱ线与南湖花园线网架完善工程 | E20: 惠城区供电局 | F20: 马庄路 | G20: 管长：58m，新建井2座;开挖深度：0.6m | H20: 2X2 | N20: 44634 | O20: 44638 | Q20: 惠市交通掘第0018 | S20: 申请工期 | T20: 15 | U20: 27 | V20: =U20-T20+1 -> 13
S21: 批复工期 | T21: 19 | U21: 28 | V21: =U21-T21+1 -> 10
B22: 16 | C22: 惠城区排水主管网 病害修复项目 | E22: 惠州市碧水工程项目管理有限公司 | F22: 新江路 | G22: 管长：230m，管径DN500，开挖深度:3-4m | H22: 217X5 | N22: 44634 | O22: 44638 | Q22: 惠市交通掘第0019 | R22: 采取分段发证，岔开路段施工的方式，第一阶段为13天 | S22: 申请工期 | T22: 16 | U22: 30 | V22: =U22-T22+1 -> 15
S23: 批复工期 | T23: 19 | U23: 31 | V23: =U23-T23+1 -> 13
B24: 17 | C24: 惠城区排水主管网 病害修复项目 | E24: 惠州市碧水工程项目管理有限公司 | F24: 东平北路 | G24: 管长：57m，管径：DN500～600，开挖深度:4-5m | H24: 72X5 | N24: 44634 | O24: 44638 | Q24: 惠市交通掘第0020 | R24: 现场勘探有地下燃气管线，需人工开挖。 | S24: 申请工期 | V24: 40
S25: 批复工期 | T25: 20 | U25: 9 | V25: =U25-T25+1+30 -> 20
B26: 18 | C26: 惠州市金山新城水环境综合整治项目演达四路病害管网修复 | E26: 惠州市碧水工程项目管理有限公司 | F26: 演达四路 | G26: 管长：40.3m，管径：DN500 ，开挖深度:5m | H26: 45X4 | N26: 44634 | O26: 44638 | Q26: 惠市交通掘第0021 | R26: 现场勘探有地下燃气管线，需人工开挖。 | S26: 申请工期 | T26: 7 | U26: 26 | V26: =U26-T26+1 -> 20
S27: 批复工期 | T27: 19 | U27: 8 | V27: =U27-T27+1+30 -> 20
B28: 19 | C28: 惠州市金山新城水环境综合整治项目麦地东二路病害管网修复 | E28: 惠州市碧水工程项目管理有限公司 | F28: 麦地东二路 | G28: 管长：146m，管径：DN400，开挖深度:3-4m | H28: 60X4 | N28: 44634 | O28: 44638 | Q28: 惠市交通掘第0022 | S28: 申请工期 | T28: 25 | U28: 25 | V28: =U28-T28+1+27 -> 28
S29: 批复工期 | T29: 19 | U29: 3 | V29: =U29-T29+1+30 -> 15
B30: 20 | C30: 惠州市金山新城水环境综合整治项目三环南路病害管网修复 | E30: 惠州市碧水工程项目管理有限公司 | F30: 三环南路 | G30: 管长：95m，管径：DN500～1200，开挖深度:6m | H30: 130X5 | N30: 44634 | O30: 44638 | Q30: 惠市交通掘第0023 | S30: 申请工期 | T30: 10 | U30: 1 | V30: =U30-T30+1+30 -> 22
S31: 批复工期 | T31: 19 | U31: 3 | V31: =U31-T31+1+30 -> 15
B32: 21 | C32: 惠州市金山新城水环境综合整治项目演达一路病害管网修复 | E32: 惠州市碧水工程项目管理有限公司 | F32: 演达一路 | G32: 管长：47m，管径：DN500，开挖深度:3-4m | H32: 47X5 | N32: 44634 | O32: 44638 | Q32: 惠市交通掘第0024 | R32: 现场勘探有地下燃气管线，需人工开挖。 | S32: 申请工期 | V32: 33
S33: 批复工期 | T33: 19 | U33: 3 | V33: =U33-T33+1+30 -> 15
B34: 22 | C34: 惠州市金山新城水环境综合整治项目南岸路病害管网修复 | E34: 惠州市碧水工程项目管理有限公司 | F34: 南岸路 | G34: 管长：17m，管径：DN500，开挖深度:3-4m | H34: 17X5 | N34: 44634 | O34: 44638 | Q34: 惠市交通掘第0025 | S34: 申请工期 | T34: 10 | U34: 16 | V34: =U34-T34+1 -> 7
S35: 批复工期 | T35: 19 | U35: 25 | V35: =U35-T35+1 -> 7
B36: 23 | C36: 惠州市金山新城水环境综合整治项目惠澳大道病害管网修复 | E36: 惠州市碧水工程项目管理有限公司 | F36: 惠澳大道 | G36: 管长：585m，管径：DN500，开挖深度:3-4m | H36: 164X5 | N36: 44634 | O36: 44638 | Q36: 惠市交通掘第0026 | R36: 采取分段发证，岔开路段施工的方式，第一阶段为14天 | S36: 申请工期 | V36: 20
S37: 批复工期 | T37: 19 | U37: 2 | V37: =U37-T37+1+30 -> 14
B38: 24 | C38: 惠州市金山新城水环境综合整治项目宝安路病害管网修复 | E38: 惠州市碧水工程项目管理有限公司 | F38: 宝安路 | G38: 管长：114m，管径：DN600，开挖深度:4-5m | H38: 64X5 | N38: 44634 | O38: 44638 | Q38: 惠市交通掘第0027 | S38: 申请工期 | T38: 7 | U38: 7 | V38: =U38-T38+1+30 -> 31
S39: 批复工期 | T39: 19 | U39: 3 | V39: =U39-T39+1+30 -> 15
B40: 25 | C40: 惠州市金山新城水环境综合整治项目麦地南路病害管网修复 | E40: 惠州市碧水工程项目管理有限公司 | F40: 麦地南路 | Q40: 惠市交通掘第0028 | S40: 申请工期 | T40: 9 | U40: 15 | V40: =U40-T40+1+30 -> 37
S41: 批复工期 | T41: 19 | U41: 3 | V41: =U41-T41+1+30 -> 15
B42: 26 | C42: 惠州市金山新城水环境综合整治项目龙湖东四路病害管网修复 | E42: 惠州市碧水工程项目管理有限公司 | F42: 龙湖东四路 | Q42: 惠市交通掘第0029 | S42: 申请工期 | T42: 9 | U42: 15 | V42: =U42-T42+1+30 -> 37
S43: 批复工期 | T43: 19 | U43: 3 | V43: =U43-T43+1+30 -> 15
B44: 27 | C44: 惠州市金山新城水环境综合整治项目花园水西路病害管网修复 | E44: 惠州市碧水工程项目管理有限公司 | F44: 花园水西路 | Q44: 惠市交通掘第0030 | S44: 申请工期 | T44: 9 | U44: 15 | V44: =U44-T44+1+30 -> 37
S45: 批复工期 | T45: 19 | U45: 3 | V45: =U45-T45+1+30 -> 15
B46: 28 | C46: 市政消火栓建设项目-东升二路 | E46: 惠州市碧水工程项目管理有限公司 | F46: 东升二路 | Q46: 惠市交通掘第0031 | S46: 申请工期 | T46: 9 | U46: 15 | V46: =U46-T46+1+30 -> 37
S47: 批复工期 | T47: 19 | U47: 3 | V47: =U47-T47+1+30 -> 15
B48: 29 | C48: 上排激流坑惠州市救助管理站和三个中心燃气管道工程 | E48: 惠州市城市燃气发展有限公司 | F48: 上排激流坑横一路 | Q48: 惠市交通掘第0032 | S48: 申请工期 | T48: 9 | U48: 15 | V48: =U48-T48+1+30 -> 37
S49: 批复工期 | T49: 19 | U49: 3 | V49: =U49-T49+1+30 -> 15
B50: 30 | C50: 惠州惠城110千伏尚书（青草塘）输变电工程 | E50: 惠城区供电局 | F50: 三环东路 | Q50: 惠市交通掘第0033 | S50: 申请工期 | T50: 9 | U50: 15 | V50: =U50-T50+1+30 -> 37
S51: 批复工期 | T51: 19 | U51: 3 | V51: =U51-T51+1+30 -> 15
B52: 31 | C52: 惠州惠城110千伏尚书（青草塘）输变电工程 | E52: 惠城区供电局 | F52: 惠泽大道 | Q52: 惠市交通掘第0034 | S52: 申请工期 | T52: 9 | U52: 15 | V52: =U52-T52+1+30 -> 37
S53: 批复工期 | T53: 19 | U53: 3 | V53: =U53-T53+1+30 -> 15
B54: 32 | C54: 演达二路视频杆取电工程 | E54: 惠州交投惠泊车管理有限公司 | F54: 演达二路 | Q54: 惠市交通掘第0035 | S54: 申请工期 | T54: 9 | U54: 15 | V54: =U54-T54+1+30 -> 37
S55: 批复工期 | T55: 19 | U55: 3 | V55: =U55-T55+1+30 -> 15

Sheet 张局 (2)
A1: 市政设施建设类审批（占用、挖掘城市道路）核减工期统计表（3-4月）
A3: 许可证编号 | B3: 项目名称 | C3: 业主单位 | D3: 施工地点 | E3: 建设规模及内容 | F3: =日常统计表!H3 -> 占用面积（长mX宽m） | G3: 受理日期 | H3: 许可起始日期 | I3: 许可截止日期 | J3: 原申请天数（天） | K3: 批复天数（天） | L3: 核减天数（天） | M3: 核减比例（%） | N3: 备注
B4: 汇总 | J4: =SUM(J8:J39) -> 793 | K4: =SUM(K8:K39) -> 574 | L4: =SUM(L8:L39) -> 219 | M4: =L4/J4 -> 0.27616646
A5: 1 | B5: 惠州市金山新城水环境综合整治项目-地质勘探 | C5: 惠州市碧水工程项目管理有限公司 | D5: 演达大道片区 | E5: 总共对演达大道片区12条路进行地质勘查钻探施工 | F5: 无需固定围挡 | G5: 44565 | H5: 44568 | I5: 44571
A6: 2 | B6: 惠州市金山新城水环境综合整治项目-地质勘探 | D6: 南部新城片区 | E6: 总共对南部新城片区10条路进行地质勘查钻探施工 | F6: 无需固定围挡 | G6: 44565 | H6: 44568 | I6: 44571
A7: 3 | B7: =日常统计表!C6 -> 惠州市金山新城水环境综合整治项目 | D7: 守正路 | E7: 雨污分流施工 | F7: 人行道1680㎡；机动车道5880㎡ | G7: 44565 | H7: 44568 | I7: 44581
A8: 4 | B8: =日常统计表!C5 -> 惠州市金山新城水环境综合整治项目 | C8: 惠州市碧水工程项目管理有限公司 | D8: 旭日路 | E8: =日常统计表!G4 -> 管长：329m；安装消火栓8座 | F8: =日常统计表!H4 -> 68X5 | G8: 44624 | H8: 44631 | I8: 44639 | J8: 9 | K8: 9 | L8: =J8-K8 -> 0 | M8: =L8/J8 -> 0
A9: 5 | B9: 惠州市金山新城水环境综合整治项目 | D9: =日常统计表!F5 -> 菱湖二路 | E9: =日常统计表!G5 -> 管长：115m，管径：DN400，开挖深度：4-5m | F9: =日常统计表!H5 -> 116X4 | G9: =日常统计表!N5 -> 44624 | H9: 44631 | I9: 44652 | J9: 25 | K9: 20 | L9: =J9-K9 -> 5 | M9: =L9/J9 -> 0.2
A10: 6 | B10: 惠州市金山新城水环境综合整治项目 | D10: =日常统计表!F6 -> 西堤路 | E10: =日常统计表!G6 -> 管长：162m；管径为DN1200，开挖深度：5-6m | F10: =日常统计表!H6 -> 162X6 | G10: =日常统计表!N6 -> 44624 | H10: =日常统计表!O6 -> 44631 | I10: 44691 | J10: 70 | K10: 60 | L10: =J10-K10 -> 10 | M10: =L10/J10 -> 0.14285714
A11: 7 | B11: 花边岭广场停车场供水管道项目 | C11: 惠州市供水 有限公司 | D11: =日常统计表!F7 -> 花边岭广场 | E11: =日常统计表!G7 -> 管长：114m，管径：DN150，开挖深度：0.6m | F11: =日常统计表!H7 -> 120X2 | G11: =日常统计表!N7 -> 44628 | H11: =日常统计表!O7 -> 44634 | I11: 44659 | J11: 25 | K11: 20 | L11: =J11-K11 -> 5 | M11: =L11/J11 -> 0.2
A12: 8 | B12: 惠州市金山新城水环境综合整治项目 | C12: 惠州市碧水工程项目管理有限公司 | D12: =日常统计表!F8 -> 翠竹四路 | E12: =日常统计表!G8 -> 管长：519m，管径:DN500mm，开挖深度：3-4m | F12: =日常统计表!H8 -> 160X5 | G12: =日常统计表!N8 -> 44628 | H12: =日常统计表!O8 -> 44634 | I12: 44655 | J12: 23 | K12: 20 | L12: =J12-K12 -> 3 | M12: =L12/J12 -> 0.13043478 | N12: 分3段批复
A13: 9 | B13: 惠州市金山新城水环境综合整治项目 | D13: =日常统计表!F9 -> 演达二路 | E13: =日常统计表!G9 -> 管长：40.3m，管径：DN500，开挖深度：3-4m | F13: =日常统计表!H9 -> 42X4 | G13: =日常统计表!N9 -> 44631 | H13: =日常统计表!O9 -> 44634 | I13: 44648 | J13: 13 | K13: 13 | L13: =J13-K13 -> 0 | M13: =L13/J13 -> 0
A14: 10 | B14: 惠州市金山新城水环境综合整治项目 | D14: =日常统计表!F10 -> 四环南路 | E14: =日常统计表!G10 -> 管长：42m，管径：DN600，开挖深度：3-4m | F14: =日常统计表!H10 -> 42X4 | G14: =日常统计表!N10 -> 44631 | H14: =日常统计表!O10 -> 44634 | I14: 44665 | J14: 15 | K14: 15 | L14: =J14-K14 -> 0 | M14: =L14/J14 -> 0 | N14: 分3段批复
A15: 11 | B15: 龙丰-上排片区市政排水管网改造工程 | D15: =日常统计表!F11 -> 红花湖路、河坑路 | E15: =日常统计表!G11 -> 管长：480m，管径：DN600，开挖深度：4-5m | F15: =日常统计表!H11 -> 120X5 | G15: =日常统计表!N11 -> 44631 | H15: =日常统计表!O11 -> 44634 | I15: 44655 | J15: 25 | K15: 20 | L15: =J15-K15 -> 5 | M15: =L15/J15 -> 0.2 | N15: 分2段批复
A16: 12 | B16: 龙丰-上排片区市政排水管网改造工程 | D16: =日常统计表!F12 -> 花园水东路 | E16: =日常统计表!G12 -> 管长：366m，管径：DN400-800；开挖深度：4-6m | F16: =日常统计表!H12 -> 262X5 | G16: =日常统计表!N12 -> 44631 | H16: =日常统计表!O12 -> 44634 | I16: 44667 | J16: 40 | K16: 30 | L16: =J16-K16 -> 10 | M16: =L16/J16 -> 0.25
A17: 13 | B17: 龙丰-上排片区市政排水管网改造工程 | D17: =日常统计表!F13 -> 江边路 | E17: =日常统计表!G13 -> 管长：306m,管径：DN600-800，开挖深度：3-4m | F17: =日常统计表!H13 -> 106X4 | G17: =日常统计表!N13 -> 44631 | H17: =日常统计表!O13 -> 44634 | I17: 44655 | J17: 25 | K17: 20 | L17: =J17-K17 -> 5 | M17: =L17/J17 -> 0.2 | N17: 分3段批复
A18: 14 | B18: 惠州市金山新城水环境综合整治项目-地质勘探 | D18: =日常统计表!F14 -> 麻渣下片区 | E18: =日常统计表!G14 -> 总共对麻渣下片区6条路进行地质勘查钻探施工 | F18: =日常统计表!H14 -> 无需固定围挡 | G18: =日常统计表!N14 -> 44628 | H18: =日常统计表!O14 -> 44634 | I18: 44641 | J18: 10 | K18: 6 | L18: =J18-K18 -> 4 | M18: =L18/J18 -> 0.4
A19: 15 | B19: 惠州市金山新城水环境综合整治项目-地质勘探 | D19: =日常统计表!F15 -> 麦地片区 | E19: =日常统计表!G15 -> 总共对麦地片区9条路进行地质勘查钻探施工 | F19: =日常统计表!H15 -> 无需固定围挡 | G19: =日常统计表!N15 -> 44628 | H19: =日常统计表!O15 -> 44634 | I19: 44641 | J19: 10 | K19: 6 | L19: =J19-K19 -> 4 | M19: =L19/J19 -> 0.4
A20: 16 | B20: =日常统计表!C16 -> 下角片区（菱湖周边）市政排水管网改造工程-雨污分流 | D20: =日常统计表!F16 -> 香子园路 | E20: =日常统计表!G16 -> 管长：175m，管径：DN400，开挖深度：为3-4m | F20: =日常统计表!H16 -> 175X7 | G20: =日常统计表!N18 -> 44638 | H20: =日常统计表!O18 -> 44638 | I20: 44659 | J20: 25 | K20: =日常统计表!V17 -> 20 | L20: =J20-K20 -> 5 | M20: =L20/J20 -> 0.2
A21: 17 | B21: =日常统计表!C18 -> 市政消火栓建设项目-东升路 | D21: =日常统计表!F18 -> 东升路人行道 | E21: =日常统计表!G18 -> 安装消火栓10座 | F21: =日常统计表!H18 -> 20X2 | G21: =日常统计表!N18 -> 44638 | H21: =日常统计表!O18 -> 44638 | I21: 44645 | J21: =日常统计表!V18 -> 8 | K21: =日常统计表!V19 -> 8 | L21: =K21-J21 -> 0 | M21: =L21/J21 -> 0
A22: 18 | B22: =日常统计表!C20 -> 南郊站城乡Ⅰ线、Ⅱ线与南湖花园线网架完善工程 | C22: =日常统计表!E20 -> 惠城区供电局 | D22: =日常统计表!F20 -> 马庄路 | E22: =日常统计表!G20 -> 管长：58m，新建井2座;开挖深度：0.6m | F22: =日常统计表!H20 -> 2X2 | G22: =日常统计表!N20 -> 44634 | H22: =日常统计表!O20 -> 44638 | I22: 44648 | J22: =日常统计表!V20 -> 13 | K22: =日常统计表!V21 -> 10 | L22: =J22-K22 -> 3 | M22: =L22/J22 -> 0.23076923
A23: 19 | B23: =日常统计表!C22 -> 惠城区排水主管网 病害修复项目 | C23: =日常统计表!E22 -> 惠州市碧水工程项目管理有限公司 | D23: =日常统计表!F22 -> 新江路 | E23: =日常统计表!G22 -> 管长：230m，管径DN500，开挖深度:3-4m | F23: =日常统计表!H22 -> 217X5 | G23: =日常统计表!N22 -> 44634 | H23: =日常统计表!O22 -> 44638 | I23: 44651 | J23: =日常统计表!V22 -> 15 | K23: =日常统计表!V23 -> 13 | L23: =J23-K23 -> 2 | M23: =L23/J23 -> 0.13333333
A24: 20 | B24: 惠城区排水主管网 病害修复项目 | D24: =日常统计表!F24 -> 东平北路 | E24: =日常统计表!G24 -> 管长：57m，管径：DN500～600，开挖深度:4-5m | F24: =日常统计表!H24 -> 72X5 | G24: =日常统计表!N24 -> 44634 | H24: =日常统计表!O24 -> 44638 | I24: 44660 | J24: =日常统计表!V24 -> 40 | K24: =日常统计表!V25 -> 20 | L24: =J24-K24 -> 20 | M24: =L24/J24 -> 0.5
A25: 21 | B25: =日常统计表!C24 -> 惠城区排水主管网 病害修复项目 | D25: =日常统计表!F26 -> 演达四路 | E25: =日常统计表!G26 -> 管长：40.3m，管径：DN500 ，开挖深度:5m | F25: =日常统计表!H26 -> 45X4 | G25: =日常统计表!N26 -> 44634 | H25: =日常统计表!O26 -> 44638 | I25: 44659 | J25: =日常统计表!V26 -> 20 | K25: =日常统计表!V27 -> 20 | L25: =J25-K25 -> 0 | M25: =L25/J25 -> 0
A26: 22 | B26: 惠城区排水主管网 病害修复项目 | D26: =日常统计表!F28 -> 麦地东二路 | E26: =日常统计表!G28 -> 管长：146m，管径：DN400，开挖深度:3-4m | F26: =日常统计表!H28 -> 60X4 | G26: =日常统计表!N28 -> 44634 | H26: =日常统计表!O28 -> 44638 | I26: 44654 | J26: =日常统计表!V28 -> 28 | K26: =日常统计表!V29 -> 15 | L26: =J26-K26 -> 13 | M26: =L26/J26 -> 0.46428571
A27: 23 | B27: =日常统计表!C26 -> 惠州市金山新城水环境综合整治项目演达四路病害管网修复 | D27: =日常统计表!F30 -> 三环南路 | E27: =日常统计表!G30 -> 管长：95m，管径：DN500～1200，开挖深度:6m | F27: =日常统计表!H30 -> 130X5 | G27: =日常统计表!N30 -> 44634 | H27: =日常统计表!O30 -> 44638 | I27: 44654 | J27: =日常统计表!V30 -> 22 | K27: =日常统计表!V31 -> 15 | L27: =J27-K27 -> 7 | M27: =L27/J27 -> 0.31818182
A28: 24 | B28: 惠城区排水主管网 病害修复项目 | D28: =日常统计表!F32 -> 演达一路 | E28: =日常统计表!G32 -> 管长：47m，管径：DN500，开挖深度:3-4m | F28: =日常统计表!H32 -> 47X5 | G28: =日常统计表!N32 -> 44634 | H28: =日常统计表!O32 -> 44638 | I28: 44654 | J28: =日常统计表!V32 -> 33 | K28: =日常统计表!V33 -> 15 | L28: =J28-K28 -> 18 | M28: =L28/J28 -> 0.54545455
A29: 25 | B29: =日常统计表!C28 -> 惠州市金山新城水环境综合整治项目麦地东二路病害管网修复 | D29: =日常统计表!F34 -> 南岸路 | E29: =日常统计表!G34 -> 管长：17m，管径：DN500，开挖深度:3-4m | F29: =日常统计表!H34 -> 17X5 | G29: =日常统计表!N34 -> 44634 | H29: =日常统计表!O34 -> 44638 | I29: 44645 | J29: =日常统计表!V34 -> 7 | K29: =日常统计表!V35 -> 7 | L29: =J29-K29 -> 0 | M29: =L29/J29 -> 0
A30: 26 | B30: 惠城区排水主管网 病害修复项目 | D30: =日常统计表!F36 -> 惠澳大道 | E30: =日常统计表!G36 -> 管长：585m，管径：DN500，开挖深度:3-4m | F30: =日常统计表!H36 -> 164X5 | G30: =日常统计表!N36 -> 44634 | H30: =日常统计表!O36 -> 44638 | I30: 44653 | J30: =日常统计表!V36 -> 20 | K30: =日常统计表!V37 -> 14 | L30: =J30-K30 -> 6 | M30: =L30/J30 -> 0.3 | N30: 分2段批复
A31: 27 | B31: =日常统计表!C38 -> 惠州市金山新城水环境综合整治项目宝安路病害管网修复 | D31: =日常统计表!F38 -> 宝安路 | E31: =日常统计表!G38 -> 管长：114m，管径：DN600，开挖深度:4-5m | F31: =日常统计表!H38 -> 64X5 | G31: =日常统计表!N38 -> 44634 | H31: =日常统计表!O38 -> 44638 | I31: 44654 | J31: =日常统计表!V38 -> 31 | K31: =日常统计表!V39 -> 15 | L31: =J31-K31 -> 16 | M31: =L31/J31 -> 0.51612903
A32: 28 | B32: =日常统计表!C40 -> 惠州市金山新城水环境综合整治项目麦地南路病害管网修复 | C32: =日常统计表!E40 -> 惠州市碧水工程项目管理有限公司 | D32: =日常统计表!F40 -> 麦地南路 | E32: 管长：120m，管径：DN400，开挖深度:4-5m | F32: 120X5 | G32: =日常统计表!N28 -> 44634 | H32: 44642 | I32: 44658 | J32: 20 | K32: 16 | L32: =J32-K32 -> 4 | M32: =L32/J32 -> 0.2 | N32: 分3段批复
A33: 29 | B33: 惠州市金山新城水环境综合整治项目龙湖东四路病害管网修复 | D33: 龙湖东四路 | E33: 管长：153m，管径：DN1200，开挖深度:4-6m | F33: 160X5 | G33: 44634 | H33: 44642 | I33: 44659 | J33: 20 | K33: 17 | L33: =J33-K33 -> 3 | M33: =L33/J33 -> 0.15 | N33: 分3段批复
A34: 30 | B34: 惠州市金山新城水环境综合整治项目花园水西路病害管网修复 | D34: 花园水西路 | E34: 管长：94m，管径：DN600，开挖深度:4-5m | F34: 100X5 | G34: 44634 | H34: 44642 | I34: 44660 | J34: 30 | K34: 18 | L34: =J34-K34 -> 12 | M34: =L34/J34 -> 0.4
A35: 31 | B35: 市政消火栓建设项目-东升二路 | D35: 东升二路 | E35: 安装消火栓8座 | F35: 每座围挡约2平方 | G35: 44645 | H35: 44647 | I35: 44652 | J35: 6 | K35: 6 | L35: =J35-K35 -> 0 | M35: =L35/J35 -> 0
A36: 32 | B36: 上排激流坑惠州市救助管理站和三个中心燃气管道工程 | C36: 惠州市城市燃气发展有限公司 | D36: 上排激流坑横一路 | E36: 管长：20m,管径：DE90.管道全线采用开挖敷设，并接入申请用户 | F36: 25X5 | G36: 44642 | H36: 44657 | I36: 44679 | J36: 25 | K36: 22 | L36: =J36-K36 -> 3 | M36: =L36/J36 -> 0.12
A37: 33 | B37: 惠州惠城110千伏尚书（青草塘）输变电工程 | C37: 惠城区供电局 | D37: 三环东路 | E37: 砌筑双回路电缆沟118m；埋设110KV电缆 | F37: 118X2.5 | G37: 44642 | H37: 44653 | I37: 44693 | J37: 65 | K37: 40 | L37: =J37-K37 -> 25 | M37: =L37/J37 -> 0.38461538 | N37: 分段批复
A38: 34 | B38: 惠州惠城110千伏尚书（青草塘）输变电工程 | C38: 惠城区供电局 | D38: 惠泽大道 | E38: 砌筑双回路电缆沟160m；埋设110KV电缆 | F38: 160X2.5 | G38: 44642 | H38: 44653 | I38: 44693 | J38: 70 | K38: 40 | L38: =J38-K38 -> 30 | M38: =L38/J38 -> 0.42857143 | N38: 分段批复
A39: 35 | B39: 演达二路视频杆取电工程 | C39: 惠州交投惠泊车管理有限公司 | D39: 演达二路 | E39: 停车位视频杆取电 | F39: 25X2 | G39: 44634 | H39: 44663 | I39: 44666 | J39: 5 | K39: 4 | L39: =J39-K39 -> 1 | M39: =L39/J39 -> 0.2

Sheet 2024年第二、第三季度
A1: 2024年博罗县占用挖掘城市道路项目计划（第二、第三季度）
A2: 序号 | B2: 项目名称 | C2: 业主单位 | D2: 施工地点 | E2: 建设规模及内容 | F2: 计划起始日期 | G2: 计划截止日期 | H2: 预计工期（天） | I2: 备注
A3: 1 | B3: 博罗县城市公共停车泊位盘活存量资产项目（园洲镇） | C3: 博罗县鼎盛智慧停车管理有限公司 | D3: 桥北路、南岗路、中兴一路、中兴二路、教育路、福园路等61条城市道路 | E3: 施工涉及设施为机动车道、非机动车道、人行道等，施工内容为占用、挖掘城市道路，共计占用、挖掘城市道路345890.94㎡，其中挖掘道路108090.92㎡。 | F3: 45441 | G3: 45534 | H3: 94
A4: 2 | B4: 博罗县城市公共停车泊位盘活存量资产项目（长宁镇） | C4: 博罗县鼎盛智慧停车管理有限公司 | D4: 长罗路、长宁大道、罗浮路、罗浮大道、人民路、长平路、曙光路、新东街 | E4: 施工涉及设施为机动车道、非机动车道、人行道等，施工内容为占用、挖掘城市道路，共计占用、挖掘城市道路13238.49㎡，其中挖掘道路9941.02㎡。 | F4: 45441 | G4: 45534 | H4: 94
A5: 3 | B5: 博罗县罗阳镇光明路中压燃气管道工程（上竹径桥东二路变更方案） | C5: 博罗深能燃气有限公司 | D5: 商业中街、光明路 | E5: 接商业中街榕苑小区门口已建中压燃气管道，沿光明路西侧铺设至桥东二路路口，全长约270米，主管径为de160，预计4个2m*4m工作坑及间接段开挖150米，占用挖掘城市道路面积：约100平方米。 | F5: 45444 | G5: 45468 | H5: 25
A6: 4 | B6: 博罗县石湾镇新怡名门气源管燃气工程 | C6: 博罗深能燃气有限公司 | D6: 石湾大道 | E6: 博罗县石湾镇新怡名门气源管燃气工程项目，主管起点位于新怡名门，沿石湾大道敷设，终点位于南亚厂附近，支管de110接新怡名门门口处主管采用破挖的方式施工90米，工程总长900米，主管管径为de315,采用非开挖定向钻方式施工，预计8个2m*6m工作坑。 | F6: 45444 | G6: 45504 | H6: 60
A7: 5 | B7: 博罗县福田镇福达北路（福东路-福兴二路）中压燃气管道工程 | C7: 博罗深能燃气有限公司 | D7: 福达北路 | E7: 工程起点在福东路和福达大道交汇处，接已建DE315燃气管道，沿福达北路敷设，终点位于福田镇新鸿材料厂。该工程采用DE315的PE管非开挖定向钻的方式施工敷设，工程总长约565米，现预计需开挖4个2m*6m工作坑. | F7: 45444 | G7: 45488 | H7: 45
A8: 6 | B8: 博罗县福田镇惠州顺兴气源管燃气管道工程 | C8: 博罗深能燃气有限公司 | D8: 福中路 | E8: 工程起点接福中路已建DE315燃气管道，终点位于惠州福顺兴厂，该工程采用DE110的PE管非开挖定向钻的方式施工敷设，工程总长约174米，现预计需开挖2个2m*6m工作坑 | F8: 45444 | G8: 45463 | H8: 20
A9: 7 | B9: 博罗县福兴大道（G324至山水豪庭）燃气管道工程 | C9: 博罗深能燃气有限公司 | D9: 福兴大道 | E9: 福兴大道（G324至山水豪庭）段燃气管道进行维护作业。计划开挖3至5个工作坑（2米*3米）对管道及配套设施进行检测及维护施工 | F9: 45444 | G9: 45453 | H9: 10
A10: 8 | B10: 博罗县罗阳街道博丰花苑、天第花园、东江花园、银苑花园燃气改造气源管工程 | C10: 博罗深能燃气有限公司 | D10: 人民路、桥西五路 | E10: 该燃气管道工程接自人民路与桥西五路交汇处东侧已建中压燃气管道，沿桥西五路铺设至博丰花园小区门口；接西侧已建管道铺设至天第花园小区门口。支线沿人民路铺设至银苑花园小区门口。采用de110的PE管，顶管方式施工，全长308米。预计6个2m*4m工作坑及连接段开挖30米，占用挖掘城市道路面积：约80平方米。 | F10: 45468 | G10: 45503 | H10: 35
A11: 9 | B11: 博罗县罗阳街道春晖苑小区燃气改造气源管工程 | C11: 博罗深能燃气有限公司 | D11: 桃园路、博罗大道 | E11: 该燃气管道工程接桃园路与广汕公路交汇口已建中压燃气管道，沿广汕公路北侧铺设至春晖苑小区门口。采用de160的PE管，顶管方式施工，全长650米。预计6个2m*4m工作坑及连接段开挖20米，占用挖掘城市道路面积：约80平方米。 | F11: 45468 | G11: 45534 | H11: 65
A12: 10 | B12: 博罗县罗阳街道建设路电信宿舍小区燃气改造气源管工程 | C12: 博罗深能燃气有限公司 | D12: 建设路 | E12: 该燃气管道工程接自建设路与低田路交汇口已建中压燃气管道，沿建设路西侧铺设至电信宿舍小区门口。采用de160的PE管，顶管方式施工，全长195米。预计3个2m*4m工作坑及间接段开挖15米，占用挖掘城市道路面积：约40平方米。 | F12: 45468 | G12: 45503 | H12: 35
A13: 11 | B13: 博罗县罗阳街道庆生路、商业中街中压燃气管道工程 | C13: 博罗深能燃气有限公司 | D13: 庆生路、商业中街 | E13: 该燃气管道工程接庆生路与中园五路交汇口已建中压燃气管道，沿庆生路东侧铺设至凯乐花园小区门口，再沿商业中街敷设至教师村小区门口。采用de315的PE管，顶管方式施工，全长1070米。预计14个2m*4m工作坑及各连接段开挖预计100米，占用挖掘城市道路面积：约170平方米。 | F13: 45468 | G13: 45514 | H13: 45
A14: 12 | B14: 博罗县罗阳街道新城一路协作城燃气改造气源管工程 | C14: 博罗深能燃气有限公司 | D14: 新城一路、新凤路 | E14: 该燃气管道工程接新凤路与新城一路交汇口已建中压燃气管道，沿新城一路铺设至协作城小区各楼栋燃气接口处。采用de110的PE管，开挖方式施工，全长144米。占用挖掘城市道路面积：约80平方米。 | F14: 45468 | G14: 45493 | H14: 25
... A20: 18 | B20: 博罗县杨侨镇杨侨大道(侨康路~侨香路)中压燃气工程 | C20: 博罗深能燃气有限公司 | D20: 杨侨大道(侨康路~侨香路) | E20: 博罗县杨侨镇杨侨大道(侨康路~侨香路)中压燃气工程位于侨康路与杨侨大道交界处，接侨香路已建de160燃气管道，终点位于侨香路与观杨公路交界处。该工程采用非开挖定向钻的方式施工敷设，工程总长3543米。预计17个2m*6m工作坑。 | F20: 45536 | G20: 45626 | H20: 90
